Workbook

Sheet 入力用シート
B2: 必要事項を入力後、印刷・押印して提出下さい。（このシートは提出不要）
B4: 申 請 日 | G4: 令和 年 月 日
B6: 本社情報
B8: 郵便番号 | G8: 〒
B10: 所在地
B12: 商号又は名称
B14: 代表者 | E14: 役職 | O14: 氏名
B16: 電話番号 | S16: FAX番号
B18: 営業所情報（契約委任先）
B19: ※代表者の権限（契約締結・請求等）を表見支配人（営業所長等）へ委任する場合のみ記載してください。
B20: 営業所名
B22: 郵便番号 | G22: 〒
B24: 所在地
B26: 電話番号 | S26: FAX番号
B29: 代表者 | E29: 役職 | O29: 氏名
B32: 【出力様式一覧】※その他必要書類については手引き参照のこと
B33: 様式第1号 | G33: 町税納付状況調査同意書 | Q33: 川本町内の営業所有無にかかわらず、必ず提出
B34: 様式第2号 | G34: 委任状 | Q34: 契約委任をする代理人を定める場合に提出

Sheet 様式第1号
A1: 様式第１号
A2: 町税納付状況調査同意書
W4: =IF(入力用シート!G4=0,"",入力用シート!G4) -> 令和 年 月 日
A6: （あて先）川本町長
F8: 本社 | I8: 所在地 | L8: 〒 | M8: =IF(入力用シート!H8=0,"",入力用シート!H8)
L9: =IF(入力用シート!G10=0,"",入力用シート!G10)
I11: 商号又 は名称 | L11: =IF(入力用シート!G12=0,"",入力用シート!G12)
I13: 代表者 職／氏名 | L13: =IF(入力用シート!G14=0,"",入力用シート!G14) | T13: =IF(入力用シート!Q14=0,"",入力用シート!Q14) | AB13: (印）
I15: TEL | L15: =IF(入力用シート!G16=0,"",入力用シート!G16) | T15: FAX | W15: =IF(入力用シート!T16=0,"",入力用シート!T16)
F16: 委任先の営業所 | I16: 所在地 | L16: 〒 | M16: =IF(入力用シート!H22=0,"",入力用シート!H22)
L17: =IF(入力用シート!G24=0,"",入力用シート!G24)
I19: 商号又 は名称 | L19: =IF(入力用シート!G20=0,"",入力用シート!G20)
I21: 代表者 職／氏名 | L21: =IF(入力用シート!G29=0,"",入力用シート!G29) | T21: =IF(入力用シート!Q29=0,"",入力用シート!Q29) | AB21: (印）
I24: TEL | L24: =IF(入力用シート!G26=0,"",入力用シート!G26) | T24: FAX | W24: =IF(入力用シート!T26=0,"",入力用シート!T26)
A27: 私は、入札参加資格審査申請のため、次の川本町税の納付状況について川本町が関係公簿を調査することに同意します。
A29: 調査の結果、滞納がある場合には、入札参加資格審査申請を承認しないこと及び資格の取消となることについて異議ありません。
B32: 調査に同意する税目
E33: 1． | F33: 個人町民税（特別徴収を含む）
E34: 2． | F34: 法人町民税
E35: 3． | F35: 固定資産税（土地・家屋・償却資産）
E36: 4． | F36: 軽自動車税
B38: 有効期限
E39: 申請日から令和11年3月31日まで
B41: 使用目的
E42: 入札参加資格申請審査及び指名審査

Sheet 様式第2号
A1: 様式第２号
A2: 委 任 状
H3: =IF(入力用シート!G4=0,"",入力用シート!G4) -> 令和 年 月 日
A5: 川本町長 様
B8: 委任者 | D8: 所在地 | F8: =IF(入力用シート!G10=0,"",入力用シート!G10)
D10: 商号又は名称 | F10: =IF(入力用シート!G12=0,"",入力用シート!G12)
D12: 代表者名 | F12: =IF(入力用シート!G14=0,"",入力用シート!G14) | H12: =IF(入力用シート!Q14=0,"",入力用シート!Q14) | I12: 印
A15: 私は、次の者を代理人と定め、令和９年４月１日から 令和１１年３月３１日まで、
A16: 下記の権限を委任します。
B19: 受任者 | D19: 所在地 | F19: =IF(入力用シート!G24=0,"",入力用シート!G24)
D21: 商号又は名称 | F21: =IF(入力用シート!G12=0,"",入力用シート!G12)
F22: =IF(入力用シート!G20=0,"",入力用シート!G20)
D23: 代表者名 | F23: =IF(入力用シート!G29=0,"",入力用シート!G29) | H23: =IF(入力用シート!Q29=0,"",入力用シート!Q29) | I23: 印
A26: 1 入札または見積に関する一切の件
A27: 2 契約の締結並びに代金請求及び受領に関する一切の権限
A28: 3 復代理人の選任に関する権限
A29: 4 その他契約に関する一切の権限
